BEGIN:VCALENDAR
VERSION:2.0
PRODID:-//Jefferson Jaguar Girls Softball - ECPv6.15.20//NONSGML v1.0//EN
CALSCALE:GREGORIAN
METHOD:PUBLISH
X-ORIGINAL-URL:https://jaguarsoftball.org
X-WR-CALDESC:Events for Jefferson Jaguar Girls Softball
REFRESH-INTERVAL;VALUE=DURATION:PT1H
X-Robots-Tag:noindex
X-PUBLISHED-TTL:PT1H
BEGIN:VTIMEZONE
TZID:America/Chicago
BEGIN:DAYLIGHT
TZOFFSETFROM:-0600
TZOFFSETTO:-0500
TZNAME:CDT
DTSTART:20250309T080000
END:DAYLIGHT
BEGIN:STANDARD
TZOFFSETFROM:-0500
TZOFFSETTO:-0600
TZNAME:CST
DTSTART:20251102T070000
END:STANDARD
BEGIN:DAYLIGHT
TZOFFSETFROM:-0600
TZOFFSETTO:-0500
TZNAME:CDT
DTSTART:20260308T080000
END:DAYLIGHT
BEGIN:STANDARD
TZOFFSETFROM:-0500
TZOFFSETTO:-0600
TZNAME:CST
DTSTART:20261101T070000
END:STANDARD
BEGIN:DAYLIGHT
TZOFFSETFROM:-0600
TZOFFSETTO:-0500
TZNAME:CDT
DTSTART:20270314T080000
END:DAYLIGHT
BEGIN:STANDARD
TZOFFSETFROM:-0500
TZOFFSETTO:-0600
TZNAME:CST
DTSTART:20271107T070000
END:STANDARD
END:VTIMEZONE
BEGIN:VEVENT
DTSTART;TZID=America/Chicago:20260103T190000
DTEND;TZID=America/Chicago:20260103T220000
DTSTAMP:20260422T101341
CREATED:20251205T005828Z
LAST-MODIFIED:20251205T005828Z
UID:2983-1767466800-1767477600@jaguarsoftball.org
SUMMARY:Dome Ball - Jefferson vs. Farmington Black
DESCRIPTION:7:00 pm warm ups\, 8-10 pm game \nSouth Field
URL:https://jaguarsoftball.org/event/dome-ball-jefferson-vs-farmington-black/
LOCATION:Rosemount Irish Sports Dome\, 13901 S Robert Trail\, Rosemount\, MN\, 55068\, United States
END:VEVENT
BEGIN:VEVENT
DTSTART;TZID=America/Chicago:20260110T190000
DTEND;TZID=America/Chicago:20260110T220000
DTSTAMP:20260422T101341
CREATED:20251205T010005Z
LAST-MODIFIED:20251205T010005Z
UID:2985-1768071600-1768082400@jaguarsoftball.org
SUMMARY:Dome Ball - Jefferson vs. Hudson HS
DESCRIPTION:7:00 pm warm ups; 8-10 pm game \nNorth Field
URL:https://jaguarsoftball.org/event/dome-ball-jefferson-vs-hudson-hs/
LOCATION:Rosemount Irish Sports Dome\, 13901 S Robert Trail\, Rosemount\, MN\, 55068\, United States
END:VEVENT
BEGIN:VEVENT
DTSTART;TZID=America/Chicago:20260117T170000
DTEND;TZID=America/Chicago:20260117T200000
DTSTAMP:20260422T101341
CREATED:20251205T010115Z
LAST-MODIFIED:20251205T010115Z
UID:2987-1768669200-1768680000@jaguarsoftball.org
SUMMARY:Dome Ball - Jefferson vs. Champlain Park
DESCRIPTION:5:00 pm warm ups; 6-8 pm game \nSouth Field
URL:https://jaguarsoftball.org/event/dome-ball-jefferson-vs-hudson-hs-2/
LOCATION:Rosemount Irish Sports Dome\, 13901 S Robert Trail\, Rosemount\, MN\, 55068\, United States
END:VEVENT
BEGIN:VEVENT
DTSTART;TZID=America/Chicago:20260124T170000
DTEND;TZID=America/Chicago:20260124T200000
DTSTAMP:20260422T101341
CREATED:20251205T010211Z
LAST-MODIFIED:20260123T163412Z
UID:2989-1769274000-1769284800@jaguarsoftball.org
SUMMARY:Dome Ball - Jefferson vs. Park HS - CANCELED
DESCRIPTION:5:00 pm warm ups; 6-8 pm game \nNorth Field
URL:https://jaguarsoftball.org/event/dome-ball-jefferson-vs-hudson-hs-2-2/
LOCATION:Rosemount Irish Sports Dome\, 13901 S Robert Trail\, Rosemount\, MN\, 55068\, United States
END:VEVENT
BEGIN:VEVENT
DTSTART;TZID=America/Chicago:20260131T170000
DTEND;TZID=America/Chicago:20260131T200000
DTSTAMP:20260422T101341
CREATED:20251205T010253Z
LAST-MODIFIED:20251205T010253Z
UID:2991-1769878800-1769889600@jaguarsoftball.org
SUMMARY:Dome Ball - Jefferson vs. Prior Lake
DESCRIPTION:5:00 pm warm ups; 6-8 pm game \nSouth Field
URL:https://jaguarsoftball.org/event/dome-ball-jefferson-vs-hudson-hs-2-2-2/
LOCATION:Rosemount Irish Sports Dome\, 13901 S Robert Trail\, Rosemount\, MN\, 55068\, United States
END:VEVENT
END:VCALENDAR