BEGIN:VCALENDAR
VERSION:2.0
PRODID:-//Jefferson Jaguar Girls Softball - ECPv6.15.20//NONSGML v1.0//EN
CALSCALE:GREGORIAN
METHOD:PUBLISH
X-WR-CALNAME:Jefferson Jaguar Girls Softball
X-ORIGINAL-URL:https://jaguarsoftball.org
X-WR-CALDESC:Events for Jefferson Jaguar Girls Softball
REFRESH-INTERVAL;VALUE=DURATION:PT1H
X-Robots-Tag:noindex
X-PUBLISHED-TTL:PT1H
BEGIN:VTIMEZONE
TZID:America/Chicago
BEGIN:DAYLIGHT
TZOFFSETFROM:-0600
TZOFFSETTO:-0500
TZNAME:CDT
DTSTART:20250309T080000
END:DAYLIGHT
BEGIN:STANDARD
TZOFFSETFROM:-0500
TZOFFSETTO:-0600
TZNAME:CST
DTSTART:20251102T070000
END:STANDARD
BEGIN:DAYLIGHT
TZOFFSETFROM:-0600
TZOFFSETTO:-0500
TZNAME:CDT
DTSTART:20260308T080000
END:DAYLIGHT
BEGIN:STANDARD
TZOFFSETFROM:-0500
TZOFFSETTO:-0600
TZNAME:CST
DTSTART:20261101T070000
END:STANDARD
BEGIN:DAYLIGHT
TZOFFSETFROM:-0600
TZOFFSETTO:-0500
TZNAME:CDT
DTSTART:20270314T080000
END:DAYLIGHT
BEGIN:STANDARD
TZOFFSETFROM:-0500
TZOFFSETTO:-0600
TZNAME:CST
DTSTART:20271107T070000
END:STANDARD
END:VTIMEZONE
BEGIN:VEVENT
DTSTART;TZID=America/Chicago:20260425T090000
DTEND;TZID=America/Chicago:20260425T103000
DTSTAMP:20260425T095913
CREATED:20251024T174246Z
LAST-MODIFIED:20260415T212052Z
UID:2876-1777107600-1777113000@jaguarsoftball.org
SUMMARY:Varsity - Forest Lake Tournament vs. Andover Huskies
DESCRIPTION:8:00 am warm up \nField 3
URL:https://jaguarsoftball.org/event/forest-lake-tournament/
LOCATION:Fenway Fields\, 5530 206th St N\, Forest Lake\, MN\, 55025
END:VEVENT
BEGIN:VEVENT
DTSTART;TZID=America/Chicago:20260425T105000
DTEND;TZID=America/Chicago:20260425T122000
DTSTAMP:20260425T095913
CREATED:20260415T212151Z
LAST-MODIFIED:20260415T212151Z
UID:3333-1777114200-1777119600@jaguarsoftball.org
SUMMARY:Varsity - Forest Lake Tournament vs. Rogers Royals
DESCRIPTION:Field 2
URL:https://jaguarsoftball.org/event/forest-lake-tournament-2/
LOCATION:Fenway Fields\, 5530 206th St N\, Forest Lake\, MN\, 55025
END:VEVENT
BEGIN:VEVENT
DTSTART;TZID=America/Chicago:20260425T124000
DTEND;TZID=America/Chicago:20260425T142000
DTSTAMP:20260425T095913
CREATED:20260415T212233Z
LAST-MODIFIED:20260415T212233Z
UID:3335-1777120800-1777126800@jaguarsoftball.org
SUMMARY:Varsity - Forest Lake Tournament vs. Forrest Lake Rangers
DESCRIPTION:Field 1
URL:https://jaguarsoftball.org/event/forest-lake-tournament-2-2/
LOCATION:Fenway Fields\, 5530 206th St N\, Forest Lake\, MN\, 55025
END:VEVENT
END:VCALENDAR