BEGIN:VCALENDAR
VERSION:2.0
PRODID:-//Jefferson Jaguar Girls Softball - ECPv6.15.20//NONSGML v1.0//EN
CALSCALE:GREGORIAN
METHOD:PUBLISH
X-WR-CALNAME:Jefferson Jaguar Girls Softball
X-ORIGINAL-URL:https://jaguarsoftball.org
X-WR-CALDESC:Events for Jefferson Jaguar Girls Softball
REFRESH-INTERVAL;VALUE=DURATION:PT1H
X-Robots-Tag:noindex
X-PUBLISHED-TTL:PT1H
BEGIN:VTIMEZONE
TZID:America/Chicago
BEGIN:DAYLIGHT
TZOFFSETFROM:-0600
TZOFFSETTO:-0500
TZNAME:CDT
DTSTART:20250309T080000
END:DAYLIGHT
BEGIN:STANDARD
TZOFFSETFROM:-0500
TZOFFSETTO:-0600
TZNAME:CST
DTSTART:20251102T070000
END:STANDARD
BEGIN:DAYLIGHT
TZOFFSETFROM:-0600
TZOFFSETTO:-0500
TZNAME:CDT
DTSTART:20260308T080000
END:DAYLIGHT
BEGIN:STANDARD
TZOFFSETFROM:-0500
TZOFFSETTO:-0600
TZNAME:CST
DTSTART:20261101T070000
END:STANDARD
BEGIN:DAYLIGHT
TZOFFSETFROM:-0600
TZOFFSETTO:-0500
TZNAME:CDT
DTSTART:20270314T080000
END:DAYLIGHT
BEGIN:STANDARD
TZOFFSETFROM:-0500
TZOFFSETTO:-0600
TZNAME:CST
DTSTART:20271107T070000
END:STANDARD
END:VTIMEZONE
BEGIN:VEVENT
DTSTART;VALUE=DATE:20260424
DTEND;VALUE=DATE:20260425
DTSTAMP:20260424T155936
CREATED:20260105T002831Z
LAST-MODIFIED:20260105T002831Z
UID:3032-1776988800-1777075199@jaguarsoftball.org
SUMMARY:BFA Night
DESCRIPTION:
URL:https://jaguarsoftball.org/event/bfa-night-2/
LOCATION:Dred Scott Field #6
END:VEVENT
BEGIN:VEVENT
DTSTART;TZID=America/Chicago:20260424T163000
DTEND;TZID=America/Chicago:20260424T183000
DTSTAMP:20260424T155936
CREATED:20251024T174132Z
LAST-MODIFIED:20260104T221202Z
UID:2872-1777048200-1777055400@jaguarsoftball.org
SUMMARY:JV vs. New Prague - HOME
DESCRIPTION:
URL:https://jaguarsoftball.org/event/varsity-vs-new-prague-home-2/
LOCATION:Dred Scott Field #6
END:VEVENT
BEGIN:VEVENT
DTSTART;TZID=America/Chicago:20260424T163000
DTEND;TZID=America/Chicago:20260424T183000
DTSTAMP:20260424T155936
CREATED:20251024T174201Z
LAST-MODIFIED:20260224T000310Z
UID:2874-1777048200-1777055400@jaguarsoftball.org
SUMMARY:B Squad vs. New Prague - AWAY
DESCRIPTION:Bus leaves Jefferson 2:50 pm; Returns 6:30 pm
URL:https://jaguarsoftball.org/event/varsity-vs-new-prague-home-2-2/
LOCATION:New Prague High School\, 221 12th St NE\,\, New Prague\, MN\, 56071\, United States
END:VEVENT
BEGIN:VEVENT
DTSTART;TZID=America/Chicago:20260424T183000
DTEND;TZID=America/Chicago:20260424T203000
DTSTAMP:20260424T155936
CREATED:20251024T174113Z
LAST-MODIFIED:20260104T221137Z
UID:2870-1777055400-1777062600@jaguarsoftball.org
SUMMARY:Varsity vs. New Prague - HOME
DESCRIPTION:
URL:https://jaguarsoftball.org/event/varsity-vs-new-prague-home/
LOCATION:Dred Scott Field #6
END:VEVENT
END:VCALENDAR