BEGIN:VCALENDAR
VERSION:2.0
PRODID:-//Jefferson Jaguar Girls Softball - ECPv6.15.20//NONSGML v1.0//EN
CALSCALE:GREGORIAN
METHOD:PUBLISH
X-WR-CALNAME:Jefferson Jaguar Girls Softball
X-ORIGINAL-URL:https://jaguarsoftball.org
X-WR-CALDESC:Events for Jefferson Jaguar Girls Softball
REFRESH-INTERVAL;VALUE=DURATION:PT1H
X-Robots-Tag:noindex
X-PUBLISHED-TTL:PT1H
BEGIN:VTIMEZONE
TZID:America/Chicago
BEGIN:DAYLIGHT
TZOFFSETFROM:-0600
TZOFFSETTO:-0500
TZNAME:CDT
DTSTART:20250309T080000
END:DAYLIGHT
BEGIN:STANDARD
TZOFFSETFROM:-0500
TZOFFSETTO:-0600
TZNAME:CST
DTSTART:20251102T070000
END:STANDARD
BEGIN:DAYLIGHT
TZOFFSETFROM:-0600
TZOFFSETTO:-0500
TZNAME:CDT
DTSTART:20260308T080000
END:DAYLIGHT
BEGIN:STANDARD
TZOFFSETFROM:-0500
TZOFFSETTO:-0600
TZNAME:CST
DTSTART:20261101T070000
END:STANDARD
BEGIN:DAYLIGHT
TZOFFSETFROM:-0600
TZOFFSETTO:-0500
TZNAME:CDT
DTSTART:20270314T080000
END:DAYLIGHT
BEGIN:STANDARD
TZOFFSETFROM:-0500
TZOFFSETTO:-0600
TZNAME:CST
DTSTART:20271107T070000
END:STANDARD
END:VTIMEZONE
BEGIN:VEVENT
DTSTART;TZID=America/Chicago:20260423T151500
DTEND;TZID=America/Chicago:20260423T164500
DTSTAMP:20260423T015558
CREATED:20260327T181808Z
LAST-MODIFIED:20260327T181808Z
UID:3219-1776957300-1776962700@jaguarsoftball.org
SUMMARY:B Squad Practice
DESCRIPTION:
URL:https://jaguarsoftball.org/event/b-squad-practice-19-2-2-2-2-2-2-2/
LOCATION:Jefferson Field 5
END:VEVENT
BEGIN:VEVENT
DTSTART;TZID=America/Chicago:20260423T153000
DTEND;TZID=America/Chicago:20260423T173000
DTSTAMP:20260423T015558
CREATED:20260408T235130Z
LAST-MODIFIED:20260408T235130Z
UID:3243-1776958200-1776965400@jaguarsoftball.org
SUMMARY:JV Practice
DESCRIPTION:
URL:https://jaguarsoftball.org/event/jv-practice-9-2-2-2-2-2/
LOCATION:Dred Scott Field #7
END:VEVENT
BEGIN:VEVENT
DTSTART;TZID=America/Chicago:20260423T154500
DTEND;TZID=America/Chicago:20260423T174500
DTSTAMP:20260423T015558
CREATED:20260408T235913Z
LAST-MODIFIED:20260408T235913Z
UID:3257-1776959100-1776966300@jaguarsoftball.org
SUMMARY:Varsity Practice
DESCRIPTION:
URL:https://jaguarsoftball.org/event/varsity-practice-25-2-2-2-2/
LOCATION:Dred Scott Field #2
END:VEVENT
END:VCALENDAR